BEGIN:VCALENDAR
VERSION:2.0
PRODID:-//Squarespace Inc/Squarespace 6//v6//EN
BEGIN:VEVENT
UID:5d84e28ee707a67e06e4c092@squarespace.com
DTSTAMP:20190920T144116Z
DTSTART:20191010T180000Z
DTEND:20191010T200000Z
SUMMARY:La santé dans la simplicité
GEO:49.726878;5.895523
LOCATION:D'Millen
END:VEVENT
END:VCALENDAR
