BEGIN:VCALENDAR
VERSION:2.0
PRODID:-//Squarespace Inc/Squarespace 6//v6//EN
BEGIN:VEVENT
UID:5c50296e4d7a9c10de809666@squarespace.com
DTSTAMP:20190213T130253Z
DTSTART:20190324T060000Z
DTEND:20190324T073000Z
SUMMARY:Balade à l'aube
GEO:49.726878;5.895523
LOCATION:D'Millen
END:VEVENT
END:VCALENDAR
