BEGIN:VCALENDAR
VERSION:2.0
PRODID:-//Squarespace Inc/Squarespace 6//v6//EN
BEGIN:VEVENT
UID:5c24bd91032be489c3ccd850@squarespace.com
DTSTAMP:20181227T120622Z
DTSTART:20190124T190000Z
DTEND:20190125T040000Z
SUMMARY:Une histoire de la bourgeoisie
GEO:49.726878;5.895523
LOCATION:D Millen
END:VEVENT
END:VCALENDAR
