BEGIN:VCALENDAR
VERSION:2.0
PRODID:-//Squarespace Inc/Squarespace 6//v6//EN
BEGIN:VEVENT
UID:5beed7238985830d4862159e@squarespace.com
DTSTAMP:20181203T084628Z
DTSTART:20190124T123000Z
DTEND:20190321T173000Z
SUMMARY:Une bobine de fil d'avance
GEO:49.726963;5.895568
LOCATION:D'Millen
END:VEVENT
END:VCALENDAR
