BEGIN:VCALENDAR
VERSION:2.0
PRODID:-//Squarespace Inc/Squarespace 6//v6//EN
BEGIN:VEVENT
UID:5bec22e140ec9ab4d44fb6ba@squarespace.com
DTSTAMP:20181114T133548Z
DTSTART:20190117T190000Z
DTEND:20190117T210000Z
SUMMARY:Un autre son d'Israël 
GEO:49.726963;5.895568
LOCATION:D'Millen
END:VEVENT
END:VCALENDAR
