BEGIN:VCALENDAR
VERSION:2.0
PRODID:-//Squarespace Inc/Squarespace 6//v6//EN
BEGIN:VEVENT
UID:5c0f9a4703ce6415c3073d1b@squarespace.com
DTSTAMP:20181211T135358Z
DTSTART:20190112T130000Z
DTEND:20190203T180000Z
SUMMARY:Univers inexplorés\, une exposition de Charles Hieronimus
GEO:49.726963;5.895568
LOCATION:D'Millen
END:VEVENT
END:VCALENDAR
