BEGIN:VCALENDAR
VERSION:2.0
PRODID:-//Squarespace Inc/Squarespace 6//v6//EN
BEGIN:VEVENT
UID:5b4efedf352f53acb9570025@squarespace.com
DTSTAMP:20180718T085432Z
DTSTART:20180908T070000Z
DTEND:20180908T150000Z
SUMMARY:Stage macro photographie 
GEO:40.720756;-74.000761
LOCATION:D'Millen
END:VEVENT
END:VCALENDAR
