BEGIN:VCALENDAR
VERSION:2.0
PRODID:-//Squarespace Inc/Squarespace 6//v6//EN
BEGIN:VEVENT
UID:5b718a5eaa4a993f465c3170@squarespace.com
DTSTAMP:20180913T081240Z
DTSTART:20180929T120000Z
DTEND:20181021T180000Z
SUMMARY:Transparences\, une exposition de Daniel Olislaegers 
GEO:40.720756;-74.000761
LOCATION:D'Millen
END:VEVENT
END:VCALENDAR
