BEGIN:VCALENDAR
VERSION:2.0
PRODID:-//Squarespace Inc/Squarespace 6//v6//EN
BEGIN:VEVENT
UID:5b55db3e562fa737541b2841@squarespace.com
DTSTAMP:20180831T105824Z
DTSTART:20180929T180000Z
DTEND:20180929T190000Z
SUMMARY:DreamWorldPiano SoloDanainii - Concert de Françoise Tonteling 
GEO:49.726878;5.895523
LOCATION:D'Millen
END:VEVENT
END:VCALENDAR
