BEGIN:VCALENDAR
VERSION:2.0
PRODID:-//Squarespace Inc/Squarespace 6//v6//EN
BEGIN:VEVENT
UID:5b7166f5758d460188c167f9@squarespace.com
DTSTAMP:20180831T105711Z
DTSTART:20180929T080000Z
DTEND:20180929T150000Z
SUMMARY:Atelier de reliure hollandaise
GEO:49.726878;5.895523
LOCATION:D'Millen
END:VEVENT
END:VCALENDAR
