BEGIN:VCALENDAR
VERSION:2.0
PRODID:-//Squarespace Inc/Squarespace 6//v6//EN
BEGIN:VEVENT
UID:5b3b993f352f536dddda8f61@squarespace.com
DTSTAMP:20180831T105541Z
DTSTART:20180927T180000Z
DTEND:20180927T200000Z
SUMMARY:Paradoxe Kuba
GEO:49.726878;5.895523
LOCATION:D'Millen
END:VEVENT
END:VCALENDAR
