BEGIN:VCALENDAR
VERSION:2.0
PRODID:-//Squarespace Inc/Squarespace 6//v6//EN
BEGIN:VEVENT
UID:5b4f3ac1758d468c0fd9432a@squarespace.com
DTSTAMP:20180718T131706Z
DTSTART:20180921T180000Z
DTEND:20180921T200000Z
SUMMARY:L'Histoire du Rock 
GEO:49.726878;5.895523
LOCATION:D'Millen
END:VEVENT
END:VCALENDAR
