BEGIN:VCALENDAR
VERSION:2.0
PRODID:-//Squarespace Inc/Squarespace 6//v6//EN
BEGIN:VEVENT
UID:5b4f3d188a922d20e4713e0a@squarespace.com
DTSTAMP:20180718T131646Z
DTSTART:20181012T180000Z
DTEND:20181012T200000Z
SUMMARY:L'Histoire du Rock 
GEO:49.726878;5.895523
LOCATION:D'Millen
END:VEVENT
END:VCALENDAR
