BEGIN:VCALENDAR
VERSION:2.0
PRODID:-//Squarespace Inc/Squarespace 6//v6//EN
BEGIN:VEVENT
UID:5b4ef7f1f950b79e7da68ac6@squarespace.com
DTSTAMP:20200102T113308Z
DTSTART:20190920T074500Z
DTEND:20200710T094500Z
SUMMARY:Cours de photographie
GEO:49.726878;5.895523
LOCATION:D'Millen
END:VEVENT
END:VCALENDAR
