BEGIN:VCALENDAR
VERSION:2.0
PRODID:-//Squarespace Inc/Squarespace 6//v6//EN
BEGIN:VEVENT
UID:5b8919f7b8a04571033635ef@squarespace.com
DTSTAMP:20180831T125329Z
DTSTART:20180921T070000Z
DTEND:20190712T100000Z
SUMMARY:Atelier de peinture pour adultes
GEO:49.726878;5.895523
LOCATION:D'Millen
END:VEVENT
END:VCALENDAR
