BEGIN:VCALENDAR
VERSION:2.0
PRODID:-//Squarespace Inc/Squarespace 6//v6//EN
BEGIN:VEVENT
UID:5b4ef399562fa7b940e74f9b@squarespace.com
DTSTAMP:20181116T143957Z
DTSTART:20180920T073000Z
DTEND:20190328T113000Z
SUMMARY:La couture dans votre cuisine 
GEO:49.726878;5.895523
LOCATION:D'Millen
END:VEVENT
END:VCALENDAR
