BEGIN:VCALENDAR
VERSION:2.0
PRODID:-//Squarespace Inc/Squarespace 6//v6//EN
BEGIN:VEVENT
UID:5b4da6d7f950b7ae380faa53@squarespace.com
DTSTAMP:20191122T093146Z
DTSTART:20190918T150000Z
DTEND:20200708T170000Z
SUMMARY:Bitzcours
GEO:49.726878;5.895523
LOCATION:D'Millen
END:VEVENT
END:VCALENDAR
