BEGIN:VCALENDAR
VERSION:2.0
PRODID:-//Squarespace Inc/Squarespace 6//v6//EN
BEGIN:VEVENT
UID:5b4f043daa4a99eb87aa236f@squarespace.com
DTSTAMP:20180718T134813Z
DTSTART:20180915T070000Z
DTEND:20180915T150000Z
SUMMARY:Stage photographique - je photographie mon village
GEO:49.726878;5.895523
LOCATION:d'Millen
END:VEVENT
END:VCALENDAR
