BEGIN:VCALENDAR
VERSION:2.0
PRODID:-//Squarespace Inc/Squarespace 6//v6//EN
BEGIN:VEVENT
UID:5abb9d8b758d462671bdaa5d@squarespace.com
DTSTAMP:20180329T123333Z
DTSTART:20180705T180000Z
DTEND:20180705T200000Z
SUMMARY:Gesund ohne Aluminium und Schwermetalle 
GEO:49.726878;5.895523
LOCATION:D'Millen
END:VEVENT
END:VCALENDAR
