BEGIN:VCALENDAR
VERSION:2.0
PRODID:-//Squarespace Inc/Squarespace 6//v6//EN
BEGIN:VEVENT
UID:5ae2d1d8aa4a99e3aac9b07c@squarespace.com
DTSTAMP:20180517T151424Z
DTSTART:20180731T073000Z
DTEND:20180803T143000Z
SUMMARY:Atelier couleurs
GEO:49.726963;5.895568
LOCATION:D'Millen
END:VEVENT
END:VCALENDAR
