BEGIN:VCALENDAR
VERSION:2.0
PRODID:-//Squarespace Inc/Squarespace 6//v6//EN
BEGIN:VEVENT
UID:5b3f4eec758d46e0546a2756@squarespace.com
DTSTAMP:20180706T112053Z
DTSTART:20180723T170000Z
DTEND:20180723T190000Z
SUMMARY:À la découverte des sons du Kototama à la chapelle du Kahlenberg
GEO:49.726878;5.895523
LOCATION:D'Millen
END:VEVENT
END:VCALENDAR
