BEGIN:VCALENDAR
VERSION:2.0
PRODID:-//Squarespace Inc/Squarespace 6//v6//EN
BEGIN:VEVENT
UID:5b16aad6f950b70540328a1d@squarespace.com
DTSTAMP:20180605T153520Z
DTSTART:20180721T190000Z
DTEND:20180721T210000Z
SUMMARY:Fakelwanderung um Kuelebierg
GEO:49.726878;5.895523
LOCATION:D'Millen
END:VEVENT
END:VCALENDAR
