BEGIN:VCALENDAR
VERSION:2.0
PRODID:-//Squarespace Inc/Squarespace 6//v6//EN
BEGIN:VEVENT
UID:5b48b60f2b6a281753a9911c@squarespace.com
DTSTAMP:20180713T145037Z
DTSTART:20180715T080000Z
DTEND:20180715T143000Z
SUMMARY:Biekerecher Kiermes
GEO:49.726878;5.895523
LOCATION:D'Millen
END:VEVENT
END:VCALENDAR
