BEGIN:VCALENDAR
VERSION:2.0
PRODID:-//Squarespace Inc/Squarespace 6//v6//EN
BEGIN:VEVENT
UID:5b2270971ae6cfe0ddee3f6c@squarespace.com
DTSTAMP:20180711T084302Z
DTSTART:20180714T120000Z
DTEND:20180805T160000Z
SUMMARY:Exposition des travaux de l'atelier peinture
GEO:49.726878;5.895523
LOCATION:D'Millen
END:VEVENT
END:VCALENDAR
