BEGIN:VCALENDAR
VERSION:2.0
PRODID:-//Squarespace Inc/Squarespace 6//v6//EN
BEGIN:VEVENT
UID:5afd87cd1ae6cf1c9276b957@squarespace.com
DTSTAMP:20180528T083420Z
DTSTART:20180621T180000Z
DTEND:20180621T200000Z
SUMMARY:Histoire des chasses de la couronne de Belgique et suivi des popula
 tions de grands gibiers dans la forêt de Saint-Hubert
GEO:49.726878;5.895523
LOCATION:D'Millen
END:VEVENT
END:VCALENDAR
