BEGIN:VCALENDAR
VERSION:2.0
PRODID:-//Squarespace Inc/Squarespace 6//v6//EN
BEGIN:VEVENT
UID:5ab508b5aa4a997e57ac8c73@squarespace.com
DTSTAMP:20180328T075141Z
DTSTART:20180505T120000Z
DTEND:20180505T153000Z
SUMMARY:Atelier artistique - Laine feutrée déclinée en objet sculptural
GEO:49.726878;5.895523
LOCATION:D'Millen
END:VEVENT
END:VCALENDAR
