BEGIN:VCALENDAR
VERSION:2.0
PRODID:-//Squarespace Inc/Squarespace 6//v6//EN
BEGIN:VEVENT
UID:5abbad1a352f53d186f89ca9@squarespace.com
DTSTAMP:20180328T150131Z
DTSTART:20180503T180000Z
DTEND:20180503T200000Z
SUMMARY:Les jardins du futur 
GEO:49.726878;5.895523
LOCATION:D'Millen
END:VEVENT
END:VCALENDAR
