BEGIN:VCALENDAR
VERSION:2.0
PRODID:-//Squarespace Inc/Squarespace 6//v6//EN
BEGIN:VEVENT
UID:5b0d17600e2e723b749772d8@squarespace.com
DTSTAMP:20180709T163619Z
DTSTART:20180728T120000Z
DTEND:20180728T143000Z
SUMMARY:Kraiderwanderung
GEO:49.726878;5.895523
LOCATION:D'Millen
END:VEVENT
END:VCALENDAR
