BEGIN:VCALENDAR
VERSION:2.0
PRODID:-//Squarespace Inc/Squarespace 6//v6//EN
BEGIN:VEVENT
UID:5b0d3f54aa4a990332410a0c@squarespace.com
DTSTAMP:20180529T120329Z
DTSTART:20180614T180000Z
DTEND:20180614T193000Z
SUMMARY:À la découverte des 10 huiles essentielles à avoir chez soi 
GEO:41.314765;-81.686031
LOCATION:D'Millen
END:VEVENT
END:VCALENDAR
