BEGIN:VCALENDAR
VERSION:2.0
PRODID:-//Squarespace Inc/Squarespace 6//v6//EN
BEGIN:VEVENT
UID:5afd998c0e2e72fb3aebfcc4@squarespace.com
DTSTAMP:20180529T120744Z
DTSTART:20180609T120000Z
DTEND:20180701T180000Z
SUMMARY:Théâtre intérieur\, oeuvres récentes sur toiles
GEO:49.726963;5.895568
LOCATION:D'Millen
END:VEVENT
END:VCALENDAR
