BEGIN:VCALENDAR
VERSION:2.0
PRODID:-//Squarespace Inc/Squarespace 6//v6//EN
BEGIN:VEVENT
UID:5afd960b03ce64542a716e95@squarespace.com
DTSTAMP:20180517T151348Z
DTSTART:20180616T120000Z
DTEND:20180616T150000Z
SUMMARY:Atelier de peinture sans pinceaux
GEO:40.720756;-74.000761
LOCATION:D'Millen
END:VEVENT
END:VCALENDAR
