BEGIN:VCALENDAR
VERSION:2.0
PRODID:-//Squarespace Inc/Squarespace 6//v6//EN
BEGIN:VEVENT
UID:5aa0f923652dea6e1e18d03b@squarespace.com
DTSTAMP:20180308T085527Z
DTSTART:20180512T080000Z
DTEND:20180512T150000Z
SUMMARY:Atelier de reliure Criss-Cross
GEO:49.726963;5.895568
LOCATION:D'Milen
END:VEVENT
END:VCALENDAR
