BEGIN:VCALENDAR
VERSION:2.0
PRODID:-//Squarespace Inc/Squarespace 6//v6//EN
BEGIN:VEVENT
UID:5aa7a9759140b783c1cc7004@squarespace.com
DTSTAMP:20180313T105001Z
DTSTART:20180428T120000Z
DTEND:20180428T150000Z
SUMMARY:Atelier de gravure pointe sèche sur CD
GEO:49.726878;5.895523
LOCATION:D'Millen
END:VEVENT
END:VCALENDAR
