BEGIN:VCALENDAR
VERSION:2.0
PRODID:-//Squarespace Inc/Squarespace 6//v6//EN
BEGIN:VEVENT
UID:5ab503611ae6cf2ed392018b@squarespace.com
DTSTAMP:20180404T104216Z
DTSTART:20180428T120000Z
DTEND:20180520T180000Z
SUMMARY:Approches feutrées\, une exposition de Carine Mertes
GEO:49.726878;5.895523
LOCATION:D'Millen
END:VEVENT
END:VCALENDAR
