BEGIN:VCALENDAR
VERSION:2.0
PRODID:-//Squarespace Inc/Squarespace 6//v6//EN
BEGIN:VEVENT
UID:5a8447488165f5c18148b8ed@squarespace.com
DTSTAMP:20180430T101912Z
DTSTART:20180420T070000Z
DTEND:20180706T090000Z
SUMMARY:Atelier hebdomadaire : Les bases de la photographie
GEO:49.726878;5.895523
LOCATION:D'Millen
END:VEVENT
END:VCALENDAR
