BEGIN:VCALENDAR
VERSION:2.0
PRODID:-//Squarespace Inc/Squarespace 6//v6//EN
BEGIN:VEVENT
UID:5ad06da4f950b750de8e3105@squarespace.com
DTSTAMP:20180606T083504Z
DTSTART:20180520T090000Z
DTEND:20180520T160000Z
SUMMARY:Luxembourg Museum Days au moulin le 20 mai
GEO:49.726878;5.895523
LOCATION:D'Millen
END:VEVENT
END:VCALENDAR
