BEGIN:VCALENDAR
VERSION:2.0
PRODID:-//Squarespace Inc/Squarespace 6//v6//EN
BEGIN:VEVENT
UID:5a958d46c830255b6a15a741@squarespace.com
DTSTAMP:20180227T174413Z
DTSTART:20180329T180000Z
DTEND:20180329T200000Z
SUMMARY:Attractions ! Sensations ! Schueberfouer
GEO:41.899377;-87.624931
LOCATION:D'Millen
END:VEVENT
END:VCALENDAR
