BEGIN:VCALENDAR
VERSION:2.0
PRODID:-//Squarespace Inc/Squarespace 6//v6//EN
BEGIN:VEVENT
UID:5a8583010852295967e7a350@squarespace.com
DTSTAMP:20180215T135058Z
DTSTART:20180324T080000Z
DTEND:20180324T160000Z
SUMMARY:Stage photographique - Comment réussir ses photographies de paysage ?
GEO:40.720756;-74.000761
LOCATION:D'Milen
END:VEVENT
END:VCALENDAR
