BEGIN:VCALENDAR
VERSION:2.0
PRODID:-//Squarespace Inc/Squarespace 6//v6//EN
BEGIN:VEVENT
UID:5a6b22cdec212d10efcc18f7@squarespace.com
DTSTAMP:20180605T153520Z
DTSTART:20180323T170000Z
DTEND:20180330T170000Z
SUMMARY:L'eau pour tous - Focus : Proche-Orient
GEO:49.726878;5.895523
LOCATION:D'Millen
END:VEVENT
END:VCALENDAR
