BEGIN:VCALENDAR
VERSION:2.0
PRODID:-//Squarespace Inc/Squarespace 6//v6//EN
BEGIN:VEVENT
UID:5a786a0424a69434ae9b1395@squarespace.com
DTSTAMP:20180205T143321Z
DTSTART:20180302T180000Z
DTEND:20180325T180000Z
SUMMARY:Une saison de couleurs\, exposition de Ruth Haberecht
GEO:49.726878;5.895523
LOCATION:D'Millen
END:VEVENT
END:VCALENDAR
