BEGIN:VCALENDAR
VERSION:2.0
PRODID:-//Squarespace Inc/Squarespace 6//v6//EN
BEGIN:VEVENT
UID:5aafccbd8a922d25804c873b@squarespace.com
DTSTAMP:20180605T153648Z
DTSTART:20180616T083000Z
DTEND:20180616T173000Z
SUMMARY:À la découverte du Sénégal
GEO:49.726878;5.895523
LOCATION:D'Millen
END:VEVENT
END:VCALENDAR
