BEGIN:VCALENDAR
VERSION:2.0
PRODID:-//Squarespace Inc/Squarespace 6//v6//EN
BEGIN:VEVENT
UID:5a857e180d9297891ade1db2@squarespace.com
DTSTAMP:20180220T160005Z
DTSTART:20180315T190000Z
DTEND:20180315T210000Z
SUMMARY:E Porto zu Porto an eng Taass Téi op den Azoren
GEO:49.726878;5.895523
LOCATION:D'Millen
END:VEVENT
END:VCALENDAR
