BEGIN:VCALENDAR
VERSION:2.0
PRODID:-//Squarespace Inc/Squarespace 6//v6//EN
BEGIN:VEVENT
UID:5a786b5953450ac9099ac2ec@squarespace.com
DTSTAMP:20180205T144308Z
DTSTART:20180311T140000Z
DTEND:20180311T150000Z
SUMMARY:Musique et poésie
GEO:49.726878;5.895523
LOCATION:D'Millen
END:VEVENT
END:VCALENDAR
