BEGIN:VCALENDAR
VERSION:2.0
PRODID:-//Squarespace Inc/Squarespace 6//v6//EN
BEGIN:VEVENT
UID:5a61bb95c83025f09a92259b@squarespace.com
DTSTAMP:20180605T153520Z
DTSTART:20180311T130000Z
DTEND:20180311T140000Z
SUMMARY:Lecture des livres de Coco-nelle et Lulubelle - Enfants de 3 à 5 an
 s
GEO:49.726878;5.895523
LOCATION:D'Millen
END:VEVENT
END:VCALENDAR
