BEGIN:VCALENDAR
VERSION:2.0
PRODID:-//Squarespace Inc/Squarespace 6//v6//EN
BEGIN:VEVENT
UID:5a61bd5d24a694dddab999db@squarespace.com
DTSTAMP:20180605T153520Z
DTSTART:20180422T120000Z
DTEND:20180422T130000Z
SUMMARY:Lecture des livres de Coco-nelle et Lulubelle - Enfants de 5 à 9 an
 s
GEO:49.726878;5.895523
LOCATION:D'Millen
END:VEVENT
END:VCALENDAR
