BEGIN:VCALENDAR
VERSION:2.0
PRODID:-//Squarespace Inc/Squarespace 6//v6//EN
BEGIN:VEVENT
UID:5a817af2f9619ab1a9961dd7@squarespace.com
DTSTAMP:20180212T114125Z
DTSTART:20180225T090000Z
DTEND:20180225T170000Z
SUMMARY:Journée de l'histoire locale
GEO:49.802827;5.996215
LOCATION:Vichten\, Luxembourg
END:VEVENT
END:VCALENDAR
