BEGIN:VCALENDAR
VERSION:2.0
PRODID:-//Squarespace Inc/Squarespace 6//v6//EN
BEGIN:VEVENT
UID:5a61bdc04192024afb6e905b@squarespace.com
DTSTAMP:20180126T153527Z
DTSTART:20180222T190000Z
DTEND:20180222T200000Z
SUMMARY:Wasserversorgung im Westen und im Süden von Luxemburg
GEO:49.726878;5.895523
LOCATION:D'Millen
END:VEVENT
END:VCALENDAR
