BEGIN:VCALENDAR
VERSION:2.0
PRODID:-//Squarespace Inc/Squarespace 6//v6//EN
BEGIN:VEVENT
UID:5a8d48acec212d14535f9acf@squarespace.com
DTSTAMP:20180519T164154Z
DTSTART:20180628T180000Z
DTEND:20180628T200000Z
SUMMARY:Ze Fouss duerch d'Dolomiten\, de Wee vum Krich an de Fridden 
GEO:49.726878;5.895523
LOCATION:D'Millen
END:VEVENT
END:VCALENDAR
