BEGIN:VCALENDAR
VERSION:2.0
PRODID:-//Squarespace Inc/Squarespace 6//v6//EN
BEGIN:VEVENT
UID:5a324e7e4192022049cecacf@squarespace.com
DTSTAMP:20180605T153520Z
DTSTART:20180210T190000Z
DTEND:20180210T203000Z
SUMMARY:Literaturkeller - Rimbaud ... comme la poésie !
GEO:49.726963;5.895568
LOCATION:D'Miilen\, 103 Huewelerstrooss\, Biekerech\, Distrikt Dikrech\, 85
 21\, Luxembourg
END:VEVENT
END:VCALENDAR
