BEGIN:VCALENDAR
VERSION:2.0
PRODID:-//Squarespace Inc/Squarespace 6//v6//EN
BEGIN:VEVENT
UID:5a73553f085229a175ab3e0e@squarespace.com
DTSTAMP:20180220T160045Z
DTSTART:20180324T130000Z
DTEND:20180324T160000Z
SUMMARY:Japanische Teezeremonie von der ENSHU Teeschule Tokyo
GEO:49.726878;5.895523
LOCATION:D'Millen
END:VEVENT
END:VCALENDAR
